BEGIN:VCALENDAR
PRODID:-//HKUST Drupal Platform//EN
VERSION:2.0
BEGIN:VTIMEZONE
TZID:Asia/Hong_Kong
BEGIN:STANDARD
DTSTART:20071104T020000
TZOFFSETFROM:+0700
TZOFFSETTO:+0800
TZNAME:HKT
END:STANDARD
END:VTIMEZONE
BEGIN:VEVENT
DTSTAMP;TZID=Asia/Hong_Kong:20260420T152811
DTSTART;TZID=Asia/Hong_Kong:20220915T150000
DTEND;TZID=Asia/Hong_Kong:20220915T160000
LOCATION:Online via Zoom
SUMMARY:IAS Center for Quantum Technologies Seminar Series - Hybrid Quantum Systems: Coupling Diamond Color Centers to Superconducting Cavities
UID:5962
END:VEVENT
END:VCALENDAR