BEGIN:VCALENDAR
PRODID:-//HKUST Drupal Platform//EN
VERSION:2.0
BEGIN:VTIMEZONE
TZID:Asia/Hong_Kong
BEGIN:STANDARD
DTSTART:20071104T020000
TZOFFSETFROM:+0700
TZOFFSETTO:+0800
TZNAME:HKT
END:STANDARD
END:VTIMEZONE
BEGIN:VEVENT
DTSTAMP;TZID=Asia/Hong_Kong:20260420T081816
DTSTART;TZID=Asia/Hong_Kong:20210624T100000
DTEND;TZID=Asia/Hong_Kong:20210624T113000
LOCATION:Online (Zoom)
SUMMARY:Seminar of Physics Department - Condensed Matter Seminar: How do we discover Majorana particles in nanowires?
UID:6013
END:VEVENT
END:VCALENDAR