BEGIN:VCALENDAR
PRODID:-//HKUST Drupal Platform//EN
VERSION:2.0
BEGIN:VTIMEZONE
TZID:Asia/Hong_Kong
BEGIN:STANDARD
DTSTART:20071104T020000
TZOFFSETFROM:+0700
TZOFFSETTO:+0800
TZNAME:HKT
END:STANDARD
END:VTIMEZONE
BEGIN:VEVENT
DTSTAMP;TZID=Asia/Hong_Kong:20260420T143047
DTSTART;TZID=Asia/Hong_Kong:20210503T160000
DTEND;TZID=Asia/Hong_Kong:20210503T173000
LOCATION:Zoom Link: https://hkust.zoom.us/j/92080897968?pwd=OXVaOGxMcDBkUEVJcGxabmlEeU5qZz09 (Meeting ID: 920 8089 7968, Passcode: 1234)
SUMMARY:PHYS Seminar - Effects of Air Physisorption on Photoluminescence of Cesium Lead Halide Perovskites
UID:6031
END:VEVENT
END:VCALENDAR