BEGIN:VCALENDAR
PRODID:-//HKUST Drupal Platform//EN
VERSION:2.0
BEGIN:VTIMEZONE
TZID:Asia/Hong_Kong
BEGIN:STANDARD
DTSTART:20071104T020000
TZOFFSETFROM:+0700
TZOFFSETTO:+0800
TZNAME:HKT
END:STANDARD
END:VTIMEZONE
BEGIN:VEVENT
DTSTAMP;TZID=Asia/Hong_Kong:20260420T153711
DTSTART;TZID=Asia/Hong_Kong:20211113T150000
DTEND;TZID=Asia/Hong_Kong:20211113T163000
LOCATION:Meeting Room 8, 4/F, Crowne Plaza Beijing Zhongguancun, Beijing (北京中关村皇冠假日酒店4层会议室8)
SUMMARY:HKUST MSc in Data-Driven Modeling Information Session 2021 (Beijing)
UID:5981
END:VEVENT
END:VCALENDAR