BEGIN:VCALENDAR
PRODID:-//HKUST Drupal Platform//EN
VERSION:2.0
BEGIN:VTIMEZONE
TZID:Asia/Hong_Kong
BEGIN:STANDARD
DTSTART:20071104T020000
TZOFFSETFROM:+0700
TZOFFSETTO:+0800
TZNAME:HKT
END:STANDARD
END:VTIMEZONE
BEGIN:VEVENT
DTSTAMP;TZID=Asia/Hong_Kong:20260420T124110
DTSTART;TZID=Asia/Hong_Kong:20221108T133000
DTEND;TZID=Asia/Hong_Kong:20221108T150000
LOCATION:Room 4472, Academic Building, HKUST (Lifts 25-26)
SUMMARY:Physics Department - Condensed Matter Seminar: Average Symmetry-Protected Topological Phases: Construction and Detection
UID:5952
END:VEVENT
END:VCALENDAR