BEGIN:VCALENDAR
PRODID:-//HKUST Drupal Platform//EN
VERSION:2.0
BEGIN:VTIMEZONE
TZID:Asia/Hong_Kong
BEGIN:STANDARD
DTSTART:20071104T020000
TZOFFSETFROM:+0700
TZOFFSETTO:+0800
TZNAME:HKT
END:STANDARD
END:VTIMEZONE
BEGIN:VEVENT
DTSTAMP;TZID=Asia/Hong_Kong:20260420T045540
DTSTART;TZID=Asia/Hong_Kong:20210225T110000
DTEND;TZID=Asia/Hong_Kong:20210225T123000
LOCATION:Online (Zoom)
SUMMARY:PHYS Seminar - Spirals and Skyrmions in Magnets and Their Emergent Electromagnetism
UID:6019
END:VEVENT
END:VCALENDAR