BEGIN:VCALENDAR
PRODID:-//HKUST Drupal Platform//EN
VERSION:2.0
BEGIN:VTIMEZONE
TZID:Asia/Hong_Kong
BEGIN:STANDARD
DTSTART:20071104T020000
TZOFFSETFROM:+0700
TZOFFSETTO:+0800
TZNAME:HKT
END:STANDARD
END:VTIMEZONE
BEGIN:VEVENT
DTSTAMP;TZID=Asia/Hong_Kong:20260420T155511
DTSTART;TZID=Asia/Hong_Kong:20231006T160000
DTEND;TZID=Asia/Hong_Kong:20231006T173000
LOCATION:Room 2405, Academic Building, HKUST (Lifts 17-18)
SUMMARY:Physics Department - Critical Phenomena on a Quantum Fuzzy Sphere: Uncovering Conformal Symmetry in the 3D Ising Transition
UID:5684
END:VEVENT
END:VCALENDAR