BEGIN:VCALENDAR
PRODID:-//HKUST Drupal Platform//EN
VERSION:2.0
BEGIN:VTIMEZONE
TZID:Asia/Hong_Kong
BEGIN:STANDARD
DTSTART:20071104T020000
TZOFFSETFROM:+0700
TZOFFSETTO:+0800
TZNAME:HKT
END:STANDARD
END:VTIMEZONE
BEGIN:VEVENT
DTSTAMP;TZID=Asia/Hong_Kong:20260420T084843
DTSTART;TZID=Asia/Hong_Kong:20201006T123000
DTEND;TZID=Asia/Hong_Kong:20201006T140000
LOCATION:Zoom Link: https://hkust.zoom.us/j/95746509909?pwd=b1U3blJGeUtJOXBmUTUzTE5vVTE5QT09                                                                                (Meeting ID: 957 4650 9909, Passcode: 225830)
SUMMARY:PHYS Seminar - Heurisitic Machinery to Uncover Hidden Features of SU(N) Fermions with Neural Networks 
UID:6051
END:VEVENT
END:VCALENDAR