BEGIN:VCALENDAR
PRODID:-//HKUST Drupal Platform//EN
VERSION:2.0
BEGIN:VTIMEZONE
TZID:Asia/Hong_Kong
BEGIN:STANDARD
DTSTART:20071104T020000
TZOFFSETFROM:+0700
TZOFFSETTO:+0800
TZNAME:HKT
END:STANDARD
END:VTIMEZONE
BEGIN:VEVENT
DTSTAMP;TZID=Asia/Hong_Kong:20260420T132850
DTSTART;TZID=Asia/Hong_Kong:20230814T103000
DTEND;TZID=Asia/Hong_Kong:20230814T120000
LOCATION:Room 4503, Academic Building, HKUST (Lifts 25-26)
SUMMARY:Physics Department - 金剛石納米尺度電磁探測技術及應用 (This talk will be delivered in Mandarin)
UID:5701
END:VEVENT
END:VCALENDAR