BEGIN:VCALENDAR
PRODID:-//HKUST Drupal Platform//EN
VERSION:2.0
BEGIN:VTIMEZONE
TZID:Asia/Hong_Kong
BEGIN:STANDARD
DTSTART:20071104T020000
TZOFFSETFROM:+0700
TZOFFSETTO:+0800
TZNAME:HKT
END:STANDARD
END:VTIMEZONE
BEGIN:VEVENT
DTSTAMP;TZID=Asia/Hong_Kong:20260420T124105
DTSTART;TZID=Asia/Hong_Kong:20221022T150000
DTEND;TZID=Asia/Hong_Kong:20221022T163000
LOCATION:Meeting Room 3, 2/F, Crowne Plaza Shanghai Fudan, Shanghai  (上海复旦皇冠假日酒店二楼光华厅3) 
SUMMARY:HKUST MSc in Data-Driven Modeling Information Session (Shanghai)
UID:5945
END:VEVENT
END:VCALENDAR