BEGIN:VCALENDAR
PRODID:-//HKUST Drupal Platform//EN
VERSION:2.0
BEGIN:VTIMEZONE
TZID:Asia/Hong_Kong
BEGIN:STANDARD
DTSTART:20071104T020000
TZOFFSETFROM:+0700
TZOFFSETTO:+0800
TZNAME:HKT
END:STANDARD
END:VTIMEZONE
BEGIN:VEVENT
DTSTAMP;TZID=Asia/Hong_Kong:20260420T084843
DTSTART;TZID=Asia/Hong_Kong:20210708T110000
DTEND;TZID=Asia/Hong_Kong:20210708T123000
LOCATION:Online (Zoom)
SUMMARY:Department of Physics - Condensed Matter Seminar: Correlated Hofstadter Spectrum and Flavor Phase Diagram in Magic Angle Graphene
UID:6016
END:VEVENT
END:VCALENDAR